BEGIN:VCALENDAR
VERSION:2.0
PRODID:-//IP.Board Calendar 4.6.9//EN
METHOD:PUBLISH
CALSCALE:GREGORIAN
BEGIN:VTIMEZONE
TZID:Europe/London
TZURL:http://tzurl.org/zoneinfo/Europe/London
X-LIC-LOCATION:Europe/London
BEGIN:DAYLIGHT
TZOFFSETFROM:+0000
TZOFFSETTO:+0100
TZNAME:BST
DTSTART:20220327T020000Z
RRULE:FREQ=YEARLY;BYMONTH=3;BYDAY=-1SU
END:DAYLIGHT
BEGIN:STANDARD
TZOFFSETFROM:+0100
TZOFFSETTO:+0000
TZNAME:GMT
DTSTART:20221030T020000Z
RRULE:FREQ=YEARLY;BYMONTH=10;BYDAY=-1SU
END:STANDARD
END:VTIMEZONE
BEGIN:VEVENT
SUMMARY:Live-Call für Challenge-Teilnehmer
DTSTAMP:20220113T082604Z
SEQUENCE:0
UID:4-1-2148dd72cf901181d694ab7c2941d5d3@army.onlytraders.com
ORGANIZER;CN="Hintman":kontakt@michaelhinterleitner.de
DESCRIPTION:\n	Jeden Montag Live-Call zum Thema: Wie ich meinem 18-jähr
	igen Ich Trading beibringen würde\n\n\n\n	Jeden Donnerstag: Wie Du von Nu
	ll methodisch zu einer regelbasierten Strategie mit einem statistischen Vo
	rteil gelangst. \n\n
DTSTART:20220113T180000Z
DTEND:20220113T193000Z
RRULE:FREQ=WEEKLY;INTERVAL=1;UNTIL=20220414T000000;BYDAY=MO,TH
END:VEVENT
END:VCALENDAR
